BEGIN:VCALENDAR
VERSION:2.0
PRODID:DPCALENDAR
CALSCALE:GREGORIAN
BEGIN:VTIMEZONE
TZID:UTC
X-MICROSOFT-CDO-TZID:0
END:VTIMEZONE
X-WR-TIMEZONE:UTC
BEGIN:VEVENT
DTSTART;TZID=UTC:20211023T140000
DTEND;TZID=UTC:20211023T143000
UID:0D86FFE4-0E64-4384-A6A3-547F1A0F8B4C
SUMMARY:C-Regionalliga RSC-Niendorfer TSV
DTSTAMP:20210809T112038Z
DESCRIPTION:Rehionalliga Nord\NRahlstedter SC gegen Niendorfer TSV\NAnstoß 14:00 Uhr\N \NZuschauer sind CORONA-bedingt sind nur begrenzt zugelassen \N 
X-ALT-DESC;FMTTYPE=text/html:<p>Rehionalliga Nord</p><p><span style="font-family: helvetica, arial, sans-serif; font-size: 12pt;">Rahlstedter SC gegen Niendorfer TSV</span></p><p><span style="font-size: 12pt;">Anstoß 14:00 Uhr</span></p><p> </p><p><span style="font-size: 12pt;"><strong><span style="font-family: helvetica, arial, sans-serif; color: #e41b2b;">Zuschauer sind CORONA-bedingt sind nur begrenzt zugelassen </span></strong></span></p><p><span style="font-family: helvetica, arial, sans-serif; font-size: 12pt;"> </span></p>
LAST-MODIFIED:20211005T063636Z
X-ACCESS:1
X-HITS:546
X-URL:
X-COLOR:81A7CD
END:VEVENT
END:VCALENDAR